BEGIN:VCALENDAR
VERSION:2.0
PRODID:-//Black Mountain Software - ECPv6.15.20//NONSGML v1.0//EN
CALSCALE:GREGORIAN
METHOD:PUBLISH
X-ORIGINAL-URL:https://blackmountainsoftware.com
X-WR-CALDESC:Events for Black Mountain Software
REFRESH-INTERVAL;VALUE=DURATION:PT1H
X-Robots-Tag:noindex
X-PUBLISHED-TTL:PT1H
BEGIN:VTIMEZONE
TZID:UTC
BEGIN:STANDARD
TZOFFSETFROM:+0000
TZOFFSETTO:+0000
TZNAME:UTC
DTSTART:20250101T000000
END:STANDARD
END:VTIMEZONE
BEGIN:VEVENT
DTSTART;TZID=UTC:20260423T110000
DTEND;TZID=UTC:20260423T113000
DTSTAMP:20260421T152054
CREATED:20260414T155709Z
LAST-MODIFIED:20260414T155709Z
UID:2007-1776942000-1776943800@blackmountainsoftware.com
SUMMARY:Settle Protested Centrally Assessed Tax
DESCRIPTION:Application: Tax \nTopic: Join us for step-by-step instructions on how to settle protests on Centrally Assessed Taxes. \nDate: Thursday\, April 23rd from 11:00 – 11:30 a.m. MDT \nClient Type: County \nSIGN UP
URL:https://blackmountainsoftware.com/event/settle-protested-centrally-assessed-tax/
LOCATION:Online
CATEGORIES:Online Training,Tax
ATTACH;FMTTYPE=image/jpeg:https://blackmountainsoftware.com/wp-content/uploads/2023/08/beautiful-shot-red-flowers-near-green-trees-with-forested-mountains-distance-e1692738585113.jpg
END:VEVENT
BEGIN:VEVENT
DTSTART;VALUE=DATE:20260427
DTEND;VALUE=DATE:20260501
DTSTAMP:20260421T152054
CREATED:20240402T051627Z
LAST-MODIFIED:20260326T170749Z
UID:1239-1777248000-1777593599@blackmountainsoftware.com
SUMMARY:CRWA Annual Expo
DESCRIPTION:The California Rural Water Association (CRWA) Annual Education and Exhibitor Expo will be held April 28th – May 1st at the Caesars Republic Lake Tahoe Hotel in Lake Tahoe\, Nevada. \n 
URL:https://blackmountainsoftware.com/event/crwa-annual-expo/
LOCATION:Caesars Republic Lake Tahoe\, Highway 50 at Stateline Ave.\, Lake Tahoe\, NV\, 89449
CATEGORIES:Conference,Upcoming Events
ATTACH;FMTTYPE=image/jpeg:https://blackmountainsoftware.com/wp-content/uploads/2024/04/AdobeStock_158878085-scaled-e1712158523191.jpeg
END:VEVENT
END:VCALENDAR