BEGIN:VCALENDAR
VERSION:2.0
PRODID:-//Black Mountain Software - ECPv6.15.20//NONSGML v1.0//EN
CALSCALE:GREGORIAN
METHOD:PUBLISH
X-WR-CALNAME:Black Mountain Software
X-ORIGINAL-URL:https://blackmountainsoftware.com
X-WR-CALDESC:Events for Black Mountain Software
REFRESH-INTERVAL;VALUE=DURATION:PT1H
X-Robots-Tag:noindex
X-PUBLISHED-TTL:PT1H
BEGIN:VTIMEZONE
TZID:UTC
BEGIN:STANDARD
TZOFFSETFROM:+0000
TZOFFSETTO:+0000
TZNAME:UTC
DTSTART:20250101T000000
END:STANDARD
END:VTIMEZONE
BEGIN:VEVENT
DTSTART;TZID=UTC:20260504T180000
DTEND;TZID=UTC:20260504T203000
DTSTAMP:20260421T175709
CREATED:20240401T202236Z
LAST-MODIFIED:20260420T230712Z
UID:1234-1777917600-1777926600@blackmountainsoftware.com
SUMMARY:MMCT/FOA Users Meeting
DESCRIPTION:Annual MMCT/FOA Users Meeting at the Doubletree by Hilton in Billings\, MT.
URL:https://blackmountainsoftware.com/event/mmct-foa-users-meeting/
LOCATION:DoubleTree by Hilton Hotel\, 27 N 27th Street\, Billings\, MT\, 59101
CATEGORIES:User Meeting
ATTACH;FMTTYPE=image/jpeg:https://blackmountainsoftware.com/wp-content/uploads/2024/04/AdobeStock_374103053-scaled-e1712155931654.jpeg
END:VEVENT
BEGIN:VEVENT
DTSTART;VALUE=DATE:20260505
DTEND;VALUE=DATE:20260508
DTSTAMP:20260421T175709
CREATED:20240402T052601Z
LAST-MODIFIED:20260326T171548Z
UID:1241-1777939200-1778198399@blackmountainsoftware.com
SUMMARY:NCLM CityVision Conference
DESCRIPTION:The North Carolina League of Municipalities (NCLM) annual conference will be held May 5th – 7th at the Raleigh Convention Center in Raleigh\, North Carolina. \n 
URL:https://blackmountainsoftware.com/event/nclm-cityvision-conference/
LOCATION:Raleigh Convention Center\, 500 S Salisbury St\, Raleigh\, NC\, 27601
CATEGORIES:Conference,Upcoming Events
ATTACH;FMTTYPE=image/jpeg:https://blackmountainsoftware.com/wp-content/uploads/2024/04/AdobeStock_144566843-scaled-e1712158790266.jpeg
END:VEVENT
BEGIN:VEVENT
DTSTART;TZID=UTC:20260520T090000
DTEND;TZID=UTC:20260520T093000
DTSTAMP:20260421T175709
CREATED:20250204T195438Z
LAST-MODIFIED:20260310T193144Z
UID:1656-1779267600-1779269400@blackmountainsoftware.com
SUMMARY:Closing Payroll Contracts for Schools
DESCRIPTION:Application: Payroll \nTopic: Learn the steps required to prepare and process final year-end paychecks in the Contracts module. \nDate: Wednesday\, May 20th from 9:00 – 9:30 a.m. MDT \nClient Type: School \nSIGN UP
URL:https://blackmountainsoftware.com/event/closing-payroll-contracts/
LOCATION:Online
CATEGORIES:Online Training,Payroll
ATTACH;FMTTYPE=image/jpeg:https://blackmountainsoftware.com/wp-content/uploads/2023/08/beautiful-shot-red-flowers-near-green-trees-with-forested-mountains-distance-e1692738585113.jpg
END:VEVENT
BEGIN:VEVENT
DTSTART;TZID=UTC:20260520T110000
DTEND;TZID=UTC:20260520T113000
DTSTAMP:20260421T175709
CREATED:20260310T193416Z
LAST-MODIFIED:20260310T193416Z
UID:1982-1779274800-1779276600@blackmountainsoftware.com
SUMMARY:Reconciling Clearing Funds
DESCRIPTION:Application: Accounting \nTopic: Learn how to reconcile the Payroll and Claims Clearing Funds by comparing Trial Balance totals to check reports and resolving discrepancies. \nDate: Wednesday\, May 20th from 11:00 – 11:30 a.m. MDT \nClient Type: All \nSIGN UP
URL:https://blackmountainsoftware.com/event/reconciling-clearing-funds/
LOCATION:Online
CATEGORIES:Accounting,Online Training
ATTACH;FMTTYPE=image/jpeg:https://blackmountainsoftware.com/wp-content/uploads/2023/08/beautiful-shot-red-flowers-near-green-trees-with-forested-mountains-distance-e1692738585113.jpg
END:VEVENT
END:VCALENDAR