BEGIN:VCALENDAR
VERSION:2.0
PRODID:-//Black Mountain Software - ECPv6.15.20//NONSGML v1.0//EN
CALSCALE:GREGORIAN
METHOD:PUBLISH
X-WR-CALNAME:Black Mountain Software
X-ORIGINAL-URL:https://blackmountainsoftware.com
X-WR-CALDESC:Events for Black Mountain Software
REFRESH-INTERVAL;VALUE=DURATION:PT1H
X-Robots-Tag:noindex
X-PUBLISHED-TTL:PT1H
BEGIN:VTIMEZONE
TZID:UTC
BEGIN:STANDARD
TZOFFSETFROM:+0000
TZOFFSETTO:+0000
TZNAME:UTC
DTSTART:20230101T000000
END:STANDARD
END:VTIMEZONE
BEGIN:VEVENT
DTSTART;TZID=UTC:20240917T140000
DTEND;TZID=UTC:20240917T150000
DTSTAMP:20260422T104547
CREATED:20240903T214153Z
LAST-MODIFIED:20240903T214153Z
UID:1449-1726581600-1726585200@blackmountainsoftware.com
SUMMARY:Utility Billing Fundamentals
DESCRIPTION:Application: Utility Billing \nTopic: This class is intended to familiarize users with the basic principles of utility billing and demonstrate best practices within the software. \nDate: Tuesday\, September 17th from 2:00 – 3:00 p.m. MDT \nClient Type: City/Other \nSIGN UP
URL:https://blackmountainsoftware.com/event/utility-billing-fundamentals/
LOCATION:Online
CATEGORIES:Online Training,Utility Billing
ATTACH;FMTTYPE=image/jpeg:https://blackmountainsoftware.com/wp-content/uploads/2023/08/beautiful-shot-red-flowers-near-green-trees-with-forested-mountains-distance-e1692738585113.jpg
END:VEVENT
BEGIN:VEVENT
DTSTART;VALUE=DATE:20250917
DTEND;VALUE=DATE:20250920
DTSTAMP:20260422T104547
CREATED:20240603T194856Z
LAST-MODIFIED:20250710T182823Z
UID:1339-1758067200-1758326399@blackmountainsoftware.com
SUMMARY:NDLC Annual Conference
DESCRIPTION:The North Dakota League of Cities (NDLC) Annual Conference will be held September 17th – 19th at the Bismarck Event Center in Bismarck\, ND. \n 
URL:https://blackmountainsoftware.com/event/ndlc-annual-conference/
LOCATION:Bismarck Event Center\, 315 S 5th St\, Bismarck\, ND\, 58504
CATEGORIES:Conference,Upcoming Events
ATTACH;FMTTYPE=image/jpeg:https://blackmountainsoftware.com/wp-content/uploads/2023/08/wan-san-yip-ID1yWa1Wpx0-unsplash-e1692737409993.jpg
END:VEVENT
BEGIN:VEVENT
DTSTART;TZID=UTC:20240919T140000
DTEND;TZID=UTC:20240919T150000
DTSTAMP:20260422T104547
CREATED:20240909T204757Z
LAST-MODIFIED:20240909T205213Z
UID:1459-1726754400-1726758000@blackmountainsoftware.com
SUMMARY:School Payroll Fundamentals
DESCRIPTION:Application: Payroll \nTopic: This class is intended to familiarize users with the basic principles of School Payroll and demonstrate best practices within the software. \nDate: Thursday\, September 19th from 2:00 – 3:00 p.m. MDT \nClient Type: School \nSIGN UP
URL:https://blackmountainsoftware.com/event/school-payroll-fundamentals/
LOCATION:Online
CATEGORIES:Online Training,Payroll
ATTACH;FMTTYPE=image/jpeg:https://blackmountainsoftware.com/wp-content/uploads/2023/08/beautiful-shot-red-flowers-near-green-trees-with-forested-mountains-distance-e1692738585113.jpg
END:VEVENT
BEGIN:VEVENT
DTSTART;TZID=UTC:20240926T140000
DTEND;TZID=UTC:20240926T150000
DTSTAMP:20260422T104547
CREATED:20240909T205043Z
LAST-MODIFIED:20240909T205116Z
UID:1460-1727359200-1727362800@blackmountainsoftware.com
SUMMARY:City/County Payroll Fundamentals
DESCRIPTION:Application: Payroll \nTopic: This class is intended to familiarize users with the basic principles of Payroll and demonstrate best practices within the software. \nDate: Thursday\, September 26th from 2:00 – 3:00 p.m. MDT \nClient Type: City/County/Other Municipality \nSIGN UP
URL:https://blackmountainsoftware.com/event/city-county-payroll-fundamentals/
LOCATION:Online
CATEGORIES:Online Training,Payroll
ATTACH;FMTTYPE=image/jpeg:https://blackmountainsoftware.com/wp-content/uploads/2023/08/beautiful-shot-red-flowers-near-green-trees-with-forested-mountains-distance-e1692738585113.jpg
END:VEVENT
END:VCALENDAR