BEGIN:VCALENDAR
VERSION:2.0
PRODID:-//Black Mountain Software - ECPv6.15.20//NONSGML v1.0//EN
CALSCALE:GREGORIAN
METHOD:PUBLISH
X-WR-CALNAME:Black Mountain Software
X-ORIGINAL-URL:https://blackmountainsoftware.com
X-WR-CALDESC:Events for Black Mountain Software
REFRESH-INTERVAL;VALUE=DURATION:PT1H
X-Robots-Tag:noindex
X-PUBLISHED-TTL:PT1H
BEGIN:VTIMEZONE
TZID:UTC
BEGIN:STANDARD
TZOFFSETFROM:+0000
TZOFFSETTO:+0000
TZNAME:UTC
DTSTART:20250101T000000
END:STANDARD
END:VTIMEZONE
BEGIN:VEVENT
DTSTART;VALUE=DATE:20260613
DTEND;VALUE=DATE:20260618
DTSTAMP:20260421T215811
CREATED:20240402T053344Z
LAST-MODIFIED:20260326T172105Z
UID:1244-1781308800-1781740799@blackmountainsoftware.com
SUMMARY:FGFOA Annual Conference
DESCRIPTION:The Florida Government Finance Officers Association (FGFOA) Annual Conference will be held June 13th – 17th at the Diplomat Beach Resort in Hollywood\, Florida. \n 
URL:https://blackmountainsoftware.com/event/fgfoa-annual-conference/
LOCATION:Loews Sapphire Resort\, 6601 Adventure Way\, Orlando\, FL\, 32819
CATEGORIES:Conference,Upcoming Events
ATTACH;FMTTYPE=image/jpeg:https://blackmountainsoftware.com/wp-content/uploads/2023/08/wan-san-yip-ID1yWa1Wpx0-unsplash-e1692737409993.jpg
END:VEVENT
BEGIN:VEVENT
DTSTART;VALUE=DATE:20260617
DTEND;VALUE=DATE:20260619
DTSTAMP:20260421T215811
CREATED:20240531T220553Z
LAST-MODIFIED:20260326T173542Z
UID:1332-1781654400-1781827199@blackmountainsoftware.com
SUMMARY:MASBO Annual Conference
DESCRIPTION:The Montana Association of School Business Officials (MASBO) Summer Conference will be held June 17th – 18th at the Billing Hotel & Convention Center in Billings\, MT. \n 
URL:https://blackmountainsoftware.com/event/masbo-annual-conference/
LOCATION:Billings Hotel & Convention Center\, 1223 Mullowney Ln\, Billings\, Montana\, 59101
CATEGORIES:Conference,Upcoming Events
ATTACH;FMTTYPE=image/jpeg:https://blackmountainsoftware.com/wp-content/uploads/2024/04/AdobeStock_242055058-scaled-e1712155760547.jpeg
END:VEVENT
END:VCALENDAR