BEGIN:VCALENDAR
VERSION:2.0
PRODID:-//Black Mountain Software - ECPv6.15.20//NONSGML v1.0//EN
CALSCALE:GREGORIAN
METHOD:PUBLISH
X-ORIGINAL-URL:https://blackmountainsoftware.com
X-WR-CALDESC:Events for Black Mountain Software
REFRESH-INTERVAL;VALUE=DURATION:PT1H
X-Robots-Tag:noindex
X-PUBLISHED-TTL:PT1H
BEGIN:VTIMEZONE
TZID:UTC
BEGIN:STANDARD
TZOFFSETFROM:+0000
TZOFFSETTO:+0000
TZNAME:UTC
DTSTART:20250101T000000
END:STANDARD
END:VTIMEZONE
BEGIN:VEVENT
DTSTART;VALUE=DATE:20260610
DTEND;VALUE=DATE:20260613
DTSTAMP:20260423T113951
CREATED:20240531T223919Z
LAST-MODIFIED:20260326T172401Z
UID:1333-1781049600-1781308799@blackmountainsoftware.com
SUMMARY:AIC Annual Conference
DESCRIPTION:The Association of Idaho Cities (AIC) Annual Conference will be held June 10th – 12th at the Boise Center in Boise\, Idaho. \n 
URL:https://blackmountainsoftware.com/event/aic-annual-conference/
LOCATION:Boise Centre\, 850 W Front St\, Boise\, ID\, 83702
CATEGORIES:Conference,Upcoming Events
ATTACH;FMTTYPE=image/jpeg:https://blackmountainsoftware.com/wp-content/uploads/2024/04/AdobeStock_67735418-scaled-e1712161298770.jpeg
END:VEVENT
END:VCALENDAR