BEGIN:VCALENDAR
VERSION:2.0
PRODID:-//Black Mountain Software - ECPv6.15.20//NONSGML v1.0//EN
CALSCALE:GREGORIAN
METHOD:PUBLISH
X-WR-CALNAME:Black Mountain Software
X-ORIGINAL-URL:https://blackmountainsoftware.com
X-WR-CALDESC:Events for Black Mountain Software
REFRESH-INTERVAL;VALUE=DURATION:PT1H
X-Robots-Tag:noindex
X-PUBLISHED-TTL:PT1H
BEGIN:VTIMEZONE
TZID:UTC
BEGIN:STANDARD
TZOFFSETFROM:+0000
TZOFFSETTO:+0000
TZNAME:UTC
DTSTART:20240101T000000
END:STANDARD
END:VTIMEZONE
BEGIN:VEVENT
DTSTART;TZID=UTC:20250624T100000
DTEND;TZID=UTC:20250624T110000
DTSTAMP:20260421T104652
CREATED:20250314T171921Z
LAST-MODIFIED:20250611T225331Z
UID:1708-1750759200-1750762800@blackmountainsoftware.com
SUMMARY:Opening a New Year with Budget Prep
DESCRIPTION:Application: Budget Prep \nTopic: Rollover budget\, Import/Export Budget\, Roll Bal sheet\, Open Year Function \nDate: Thursday\, June 24th from 10:00 – 11:00 a.m. MDT \nClient Type: All \nSIGN UP
URL:https://blackmountainsoftware.com/event/opening-a-new-year-with-budget-prep/
LOCATION:Online
CATEGORIES:Budget Prep,Online Training
ATTACH;FMTTYPE=image/jpeg:https://blackmountainsoftware.com/wp-content/uploads/2023/08/beautiful-shot-red-flowers-near-green-trees-with-forested-mountains-distance-e1692738585113.jpg
END:VEVENT
BEGIN:VEVENT
DTSTART;TZID=UTC:20250624T140000
DTEND;TZID=UTC:20250624T150000
DTSTAMP:20260421T104652
CREATED:20250411T201949Z
LAST-MODIFIED:20250411T202524Z
UID:1752-1750773600-1750777200@blackmountainsoftware.com
SUMMARY:Opening a New Year - County Applications
DESCRIPTION:Application: Budget Prep \nTopic: Rollover Budget\, Import/Export Budget\, Rollover Balance Sheet\, Open Year Function. For County clients. \nDate: Thursday\, June 24th from 2:00 – 3:00 p.m. MDT \nClient Type: County \nSIGN UP
URL:https://blackmountainsoftware.com/event/opening-a-new-year-in-county-applications/
LOCATION:Online
CATEGORIES:Budget Prep,Online Training
ATTACH;FMTTYPE=image/jpeg:https://blackmountainsoftware.com/wp-content/uploads/2023/08/beautiful-shot-red-flowers-near-green-trees-with-forested-mountains-distance-e1692738585113.jpg
END:VEVENT
END:VCALENDAR