BEGIN:VCALENDAR
VERSION:2.0
PRODID:-//Black Mountain Software - ECPv6.15.20//NONSGML v1.0//EN
CALSCALE:GREGORIAN
METHOD:PUBLISH
X-WR-CALNAME:Black Mountain Software
X-ORIGINAL-URL:https://blackmountainsoftware.com
X-WR-CALDESC:Events for Black Mountain Software
REFRESH-INTERVAL;VALUE=DURATION:PT1H
X-Robots-Tag:noindex
X-PUBLISHED-TTL:PT1H
BEGIN:VTIMEZONE
TZID:UTC
BEGIN:STANDARD
TZOFFSETFROM:+0000
TZOFFSETTO:+0000
TZNAME:UTC
DTSTART:20240101T000000
END:STANDARD
END:VTIMEZONE
BEGIN:VEVENT
DTSTART;TZID=UTC:20250520T140000
DTEND;TZID=UTC:20250520T150000
DTSTAMP:20260421T104702
CREATED:20250204T200330Z
LAST-MODIFIED:20250205T172408Z
UID:1658-1747749600-1747753200@blackmountainsoftware.com
SUMMARY:Getting Started with Budget Prep
DESCRIPTION:Application: Budget Prep \nTopic: Learn the basic processes to get started in Budget Prep.  \nDate: Thursday\, May 20th from 2:00 – 3:00 p.m. MDT \nClient Type: All \nSIGN UP
URL:https://blackmountainsoftware.com/event/getting-started-with-budget-prep/
LOCATION:Online
CATEGORIES:Budget Prep,Online Training
ATTACH;FMTTYPE=image/jpeg:https://blackmountainsoftware.com/wp-content/uploads/2023/08/beautiful-shot-red-flowers-near-green-trees-with-forested-mountains-distance-e1692738585113.jpg
END:VEVENT
END:VCALENDAR