BEGIN:VCALENDAR
VERSION:2.0
PRODID:-//Black Mountain Software - ECPv6.15.20//NONSGML v1.0//EN
CALSCALE:GREGORIAN
METHOD:PUBLISH
X-WR-CALNAME:Black Mountain Software
X-ORIGINAL-URL:https://blackmountainsoftware.com
X-WR-CALDESC:Events for Black Mountain Software
REFRESH-INTERVAL;VALUE=DURATION:PT1H
X-Robots-Tag:noindex
X-PUBLISHED-TTL:PT1H
BEGIN:VTIMEZONE
TZID:UTC
BEGIN:STANDARD
TZOFFSETFROM:+0000
TZOFFSETTO:+0000
TZNAME:UTC
DTSTART:20240101T000000
END:STANDARD
END:VTIMEZONE
BEGIN:VEVENT
DTSTART;TZID=UTC:20250313T100000
DTEND;TZID=UTC:20250313T110000
DTSTAMP:20260421T120656
CREATED:20241219T235104Z
LAST-MODIFIED:20250115T235754Z
UID:1606-1741860000-1741863600@blackmountainsoftware.com
SUMMARY:Utility Billing Fundamentals 2.0
DESCRIPTION:Application: Utility Billing \nTopic: This class is part of a series and is a continuation of basic principles of Utility Billing and will demonstrate best practices within the software. \nDate: Thursday\, March 13th from 10:00 – 11:00 a.m. MDT \nClient Type: City/Other \nSIGN UP
URL:https://blackmountainsoftware.com/event/utility-billing-fundamentals-2-0/
LOCATION:Online
CATEGORIES:Online Training,Utility Billing
ATTACH;FMTTYPE=image/jpeg:https://blackmountainsoftware.com/wp-content/uploads/2023/08/beautiful-shot-red-flowers-near-green-trees-with-forested-mountains-distance-e1692738585113.jpg
END:VEVENT
END:VCALENDAR